BEGIN:VCALENDAR
VERSION:2.0
PRODID:-//Mass Serves - ECPv4.6.22.1//NONSGML v1.0//EN
CALSCALE:GREGORIAN
METHOD:PUBLISH
X-WR-CALNAME:Mass Serves
X-ORIGINAL-URL:https://massserves.org
X-WR-CALDESC:Events for Mass Serves
BEGIN:VEVENT
DTSTART;TZID=America/New_York:20190727T120000
DTEND;TZID=America/New_York:20190727T233000
DTSTAMP:20260419T154334
CREATED:20190424T165216Z
LAST-MODIFIED:20190424T165216Z
UID:39506-1564228800-1564270200@massserves.org
SUMMARY:10th Annual Givin' & Groovin Event
DESCRIPTION:Join us for our 10th Annual Givin’ & Groovin golf outing! \n
URL:https://massserves.org/event/10th-annual-givin-groovin-event/
LOCATION:Aston Oaks Drive\, Aston Oaks Drive\, North Bend\, OH\, 45052\, United States
GEO:39.149949;-84.728693
X-APPLE-STRUCTURED-LOCATION;VALUE=URI;X-ADDRESS=Aston Oaks Drive Aston Oaks Drive North Bend OH 45052 United States;X-APPLE-RADIUS=500;X-TITLE=Aston Oaks Drive:geo:-84.728693,39.149949
CATEGORIES:Children,Health
ATTACH;FMTTYPE=image/jpeg:https://massserves.org/wp-content/uploads/2019/04/MAC-cover-3x2.jpg
ORGANIZER;CN="Make%20A%20Change%20Foundation":MAILTO:mac.ypgroup@gmail.com
END:VEVENT
END:VCALENDAR