BEGIN:VCALENDAR
VERSION:2.0
PRODID:-//Mass Serves - ECPv4.6.22.1//NONSGML v1.0//EN
CALSCALE:GREGORIAN
METHOD:PUBLISH
X-WR-CALNAME:Mass Serves
X-ORIGINAL-URL:https://massserves.org
X-WR-CALDESC:Events for Mass Serves
BEGIN:VEVENT
DTSTART;TZID=America/New_York:20171225T100000
DTEND;TZID=America/New_York:20171225T140000
DTSTAMP:20260423T073055
CREATED:20171206T213327Z
LAST-MODIFIED:20171206T213327Z
UID:30222-1514196000-1514210400@massserves.org
SUMMARY:30th Annual Christmas Dinner
DESCRIPTION:Help us provide the 30th Annual Christmas holiday dinner\, on Monday\, Christmas day December 25\, 2017 for approximately 2\,000 people. The event includes a visit from Santa and Mrs. Claus\, who hand out toys to children\, and coats\, blankets and personal care items to everyone at the Northern Kentucky Convention Center. This event is open to all zip codes. \n
URL:https://massserves.org/event/30th-annual-christmas-dinner/
LOCATION:Cincinnati\, United States
CATEGORIES:Children,Hunger,Poverty
ATTACH;FMTTYPE=image/jpeg:https://massserves.org/wp-content/uploads/2016/02/imageedit_24_6494977016.jpg
END:VEVENT
END:VCALENDAR