BEGIN:VCALENDAR
VERSION:2.0
PRODID:-//Mass Serves - ECPv4.6.22.1//NONSGML v1.0//EN
CALSCALE:GREGORIAN
METHOD:PUBLISH
X-WR-CALNAME:Mass Serves
X-ORIGINAL-URL:https://massserves.org
X-WR-CALDESC:Events for Mass Serves
BEGIN:VEVENT
DTSTART;TZID=America/New_York:20191019T180000
DTEND;TZID=America/New_York:20191019T230000
DTSTAMP:20260421T171140
CREATED:20190712T151904Z
LAST-MODIFIED:20190712T151904Z
UID:40758-1571508000-1571526000@massserves.org
SUMMARY:Bone Bash
DESCRIPTION:A good cause\, masquerading as a good time! Join us for the Arthritis Foundation’s signature costumed affair featuring spooky decorations\, a frighteningly fabulous dinner\, costume contest\, silent auction\, and spirits! \n
URL:https://massserves.org/event/bone-bash/
LOCATION:Newport Syndicate\, 18 E. 5th St.\, Newport\, KY\, 41071\, United States
GEO:39.0918137;-84.4947281
X-APPLE-STRUCTURED-LOCATION;VALUE=URI;X-ADDRESS=Newport Syndicate 18 E. 5th St. Newport KY 41071 United States;X-APPLE-RADIUS=500;X-TITLE=18 E. 5th St.:geo:-84.4947281,39.0918137
CATEGORIES:Health
ATTACH;FMTTYPE=image/jpeg:https://massserves.org/wp-content/uploads/2019/07/BB-cover-3x2.jpg
ORGANIZER;CN="Arthritis%20Foundation%20Ohio":MAILTO:lalbrincklee@arthritis.org
END:VEVENT
END:VCALENDAR