BEGIN:VCALENDAR
VERSION:2.0
PRODID:-//Mass Serves - ECPv4.6.22.1//NONSGML v1.0//EN
CALSCALE:GREGORIAN
METHOD:PUBLISH
X-WR-CALNAME:Mass Serves
X-ORIGINAL-URL:https://massserves.org
X-WR-CALDESC:Events for Mass Serves
BEGIN:VEVENT
DTSTART;TZID=America/New_York:20180518T170000
DTEND;TZID=America/New_York:20180518T230000
DTSTAMP:20260420T111323
CREATED:20180515T193932Z
LAST-MODIFIED:20180515T193932Z
UID:17150-1526662800-1526684400@massserves.org
SUMMARY:Buckeye BBQ Fest
DESCRIPTION:The 7th Annual Rotary Club BBQ Fest is the biggest fundraiser of the year for the West Chester/Liberty Rotary Club\, the local chapter of one of the largest humanitarian service organizations in the world. \n
URL:https://massserves.org/event/buckeye-bbq-fest/
LOCATION:The Square\, 9285 Centre Point Dr.\, West Chester\, OH\, 45069
GEO:39.3274793;-84.4305238
X-APPLE-STRUCTURED-LOCATION;VALUE=URI;X-ADDRESS=The Square 9285 Centre Point Dr. West Chester OH 45069;X-APPLE-RADIUS=500;X-TITLE=9285 Centre Point Dr.:geo:-84.4305238,39.3274793
CATEGORIES:Children,Education,Environment,Health,Hunger,Poverty
ATTACH;FMTTYPE=:
ORGANIZER;CN="Rotary%20Club%20of%20West%20Chester":MAILTO:president@westchesterrotary.org
END:VEVENT
END:VCALENDAR