BEGIN:VCALENDAR
VERSION:2.0
PRODID:-//Mass Serves - ECPv4.6.22.1//NONSGML v1.0//EN
CALSCALE:GREGORIAN
METHOD:PUBLISH
X-WR-CALNAME:Mass Serves
X-ORIGINAL-URL:https://massserves.org
X-WR-CALDESC:Events for Mass Serves
BEGIN:VEVENT
DTSTART;TZID=America/New_York:20171220T100000
DTEND;TZID=America/New_York:20171220T130000
DTSTAMP:20260423T122812
CREATED:20171127T214540Z
LAST-MODIFIED:20171127T214540Z
UID:30215-1513764000-1513774800@massserves.org
SUMMARY:Christmas Operations
DESCRIPTION:Assist with the distribution of food boxes to families. This is an inside and outside operation; various tasks are assigned to each shift. Tasks include packaging meats; front counter; crowd directors; forms assistants; carts and carry-out. Tasks are assigned after volunteers have been checked in and a brief orientation. \n  \nShifts: 7:15 – 10:30 AM\, 10 AM – 1 PM\, 2:30 – 3:30 PM\, 3 – 6:30 PM \n
URL:https://massserves.org/event/christmas-operations/
LOCATION:Cincinnati\, United States
CATEGORIES:Hunger,Poverty
ATTACH;FMTTYPE=image/jpeg:https://massserves.org/wp-content/uploads/2017/11/Christmas-Operations-01-e1511809192356.jpg
END:VEVENT
END:VCALENDAR