BEGIN:VCALENDAR
VERSION:2.0
PRODID:-//Mass Serves - ECPv4.6.22.1//NONSGML v1.0//EN
CALSCALE:GREGORIAN
METHOD:PUBLISH
X-WR-CALNAME:Mass Serves
X-ORIGINAL-URL:https://massserves.org
X-WR-CALDESC:Events for Mass Serves
BEGIN:VEVENT
DTSTART;TZID=America/New_York:20181215T163000
DTEND;TZID=America/New_York:20181215T183000
DTSTAMP:20260420T192027
CREATED:20181126T193757Z
LAST-MODIFIED:20181126T193757Z
UID:34263-1544891400-1544898600@massserves.org
SUMMARY:Christmas Store (Day 3)
DESCRIPTION:The Christmas Store allows low-income families the opportunity to provide Christmas presents for their children at a price they can afford. (Parents who shop at the store are required to pre-register through their church.) \nBeginning December 10\, we transform a church into “The Christmas Store”\, where parents can shop and select the gifts for their children at a very low price. Gifts and toys are provided through generous donations from churches\, companies\, organizations\, and individuals. \n
URL:https://massserves.org/event/christmas-store-day-3/
LOCATION:Westwood First Presbyterian Church\, 3011 Harrison Ave.\, Cincinnati\, OH\, 45211\, United States
GEO:39.1470722;-84.5978232
X-APPLE-STRUCTURED-LOCATION;VALUE=URI;X-ADDRESS=Westwood First Presbyterian Church 3011 Harrison Ave. Cincinnati OH 45211 United States;X-APPLE-RADIUS=500;X-TITLE=3011 Harrison Ave.:geo:-84.5978232,39.1470722
CATEGORIES:Poverty
ATTACH;FMTTYPE=image/jpeg:https://massserves.org/wp-content/uploads/2018/11/CS-cover-3x2.jpg
ORGANIZER;CN="City%20Gospel%20Mission":MAILTO:rwagner@citygospelmission.org
END:VEVENT
END:VCALENDAR