BEGIN:VCALENDAR
VERSION:2.0
PRODID:-//Mass Serves - ECPv4.6.22.1//NONSGML v1.0//EN
CALSCALE:GREGORIAN
METHOD:PUBLISH
X-WR-CALNAME:Mass Serves
X-ORIGINAL-URL:https://massserves.org
X-WR-CALDESC:Events for Mass Serves
BEGIN:VEVENT
DTSTART;TZID=America/New_York:20181202T100000
DTEND;TZID=America/New_York:20181202T150000
DTSTAMP:20260419T185435
CREATED:20181120T193253Z
LAST-MODIFIED:20181120T200102Z
UID:34048-1543744800-1543762800@massserves.org
SUMMARY:Cincideutsch Christkindlmarkt
DESCRIPTION:Join us for the seventh annual Cincideutsch Christkindlmarkt\, an authentic German Christmas market—the premier holiday event in downtown Cincinnati. \nWe will be taking down the booths and transporting them back to our storage area. The more people we have\, the quicker and easier it will be! Please bring work gloves and a ladder or cordless drill if you can. If you will be joining us after church\, please still sign up and just let us know when you will be able to arrive. A pizza lunch will be provided. \n
URL:https://massserves.org/event/cincideutsch-christkindlmarkt/
LOCATION:Fountain Square\, 520 Vine St.\, Cincinnati\, OH\, 45202\, United States
GEO:39.1017693;-84.5127768
X-APPLE-STRUCTURED-LOCATION;VALUE=URI;X-ADDRESS=Fountain Square 520 Vine St. Cincinnati OH 45202 United States;X-APPLE-RADIUS=500;X-TITLE=520 Vine St.:geo:-84.5127768,39.1017693
CATEGORIES:Arts & Culture,Education
ATTACH;FMTTYPE=image/jpeg:https://massserves.org/wp-content/uploads/2018/11/CKM-cover-3x2.jpg
ORGANIZER;CN="Cincideutsch":MAILTO:nick@cincideutsch.com
END:VEVENT
END:VCALENDAR