BEGIN:VCALENDAR
VERSION:2.0
PRODID:-//Mass Serves - ECPv4.6.22.1//NONSGML v1.0//EN
CALSCALE:GREGORIAN
METHOD:PUBLISH
X-WR-CALNAME:Mass Serves
X-ORIGINAL-URL:https://massserves.org
X-WR-CALDESC:Events for Mass Serves
BEGIN:VEVENT
DTSTART;TZID=America/New_York:20190202T120000
DTEND;TZID=America/New_York:20190202T163000
DTSTAMP:20260420T030527
CREATED:20181214T201446Z
LAST-MODIFIED:20181214T201446Z
UID:34704-1549108800-1549125000@massserves.org
SUMMARY:Cincy Beerfest (2nd Session)
DESCRIPTION:THE BIG ONE IS BACK! The 12th Annual Cincy Beerfest is back again at Duke Energy Center\, on February 1st and 2nd. TICKETS ON SALE NOW. We will have 3 sessions\, one in the Friday at night\, Saturday afternoon and one Saturday night.\n\nOver 350 of Local & Regional Craft Beers & Thousands of Craft Beer Fans! All proceeds again benefit the Big Joe Duskin Music Education Foundation.\n
URL:https://massserves.org/event/cincy-beerfest-2nd-session/
LOCATION:Duke Energy Center\, 525 Elm St.\, Cincinnati\, OH\, 45202\, United States
GEO:39.1014345;-84.5173035
X-APPLE-STRUCTURED-LOCATION;VALUE=URI;X-ADDRESS=Duke Energy Center 525 Elm St. Cincinnati OH 45202 United States;X-APPLE-RADIUS=500;X-TITLE=525 Elm St.:geo:-84.5173035,39.1014345
CATEGORIES:Arts & Culture
ATTACH;FMTTYPE=image/jpeg:https://massserves.org/wp-content/uploads/2018/12/CB-cover-e1544817920784.jpg
END:VEVENT
END:VCALENDAR