BEGIN:VCALENDAR
VERSION:2.0
PRODID:-//Mass Serves - ECPv4.6.22.1//NONSGML v1.0//EN
CALSCALE:GREGORIAN
METHOD:PUBLISH
X-WR-CALNAME:Mass Serves
X-ORIGINAL-URL:https://massserves.org
X-WR-CALDESC:Events for Mass Serves
BEGIN:VEVENT
DTSTART;TZID=America/New_York:20181020T100000
DTEND;TZID=America/New_York:20181020T130000
DTSTAMP:20260421T100505
CREATED:20180806T174407Z
LAST-MODIFIED:20181002T192124Z
UID:32473-1540029600-1540040400@massserves.org
SUMMARY:Combating Invasive Plant Species
DESCRIPTION:Volunteers of all ages are welcome to join us as we learn about invasive plant species\, why they are detrimental to our environment and ways we can combat their wide spread growth. Start the day with a brief lesson about the impact invasive plants have on our native biodiversity and also how to properly identify these harmful plants and how to remove them. We will then be going to our multiple trails around our 122 acre non-profit farm to search out and remove invasive plant species. \n
URL:https://massserves.org/event/combatting-invasive-plant-species/
LOCATION:Gorman Heritage Farm\, 10052 Reading Rd\, Cincinnati\, OH\, 45241
GEO:39.2449624;-84.4244606
X-APPLE-STRUCTURED-LOCATION;VALUE=URI;X-ADDRESS=Gorman Heritage Farm 10052 Reading Rd Cincinnati OH 45241;X-APPLE-RADIUS=500;X-TITLE=10052 Reading Rd:geo:-84.4244606,39.2449624
CATEGORIES:Education,Environment
ATTACH;FMTTYPE=image/png:https://massserves.org/wp-content/uploads/2018/08/notitle-08.png
ORGANIZER;CN="Gorman%20Heritage%20Farm":MAILTO:bwalker@gormanfarm.org
END:VEVENT
END:VCALENDAR