BEGIN:VCALENDAR
VERSION:2.0
PRODID:-//Mass Serves - ECPv4.6.22.1//NONSGML v1.0//EN
CALSCALE:GREGORIAN
METHOD:PUBLISH
X-WR-CALNAME:Mass Serves
X-ORIGINAL-URL:https://massserves.org
X-WR-CALDESC:Events for Mass Serves
BEGIN:VEVENT
DTSTART;TZID=America/New_York:20180511T110000
DTEND;TZID=America/New_York:20180511T130000
DTSTAMP:20260420T232236
CREATED:20180502T182720Z
LAST-MODIFIED:20180502T182720Z
UID:30259-1526036400-1526043600@massserves.org
SUMMARY:Family Backyard Bash
DESCRIPTION:Volunteers will help pass out flyers to homes in the Blue Ash area advertising our Family Backyard Bash. \n
URL:https://massserves.org/event/family-backyard-bash/
LOCATION:Cincinnati\, United States
CATEGORIES:Health
ATTACH;FMTTYPE=image/jpeg:https://massserves.org/wp-content/uploads/2018/05/CSC-cover-1.jpg
END:VEVENT
END:VCALENDAR