BEGIN:VCALENDAR
VERSION:2.0
PRODID:-//Mass Serves - ECPv4.6.22.1//NONSGML v1.0//EN
CALSCALE:GREGORIAN
METHOD:PUBLISH
X-WR-CALNAME:Mass Serves
X-ORIGINAL-URL:https://massserves.org
X-WR-CALDESC:Events for Mass Serves
BEGIN:VEVENT
DTSTART;TZID=America/New_York:20180506T063000
DTEND;TZID=America/New_York:20180506T223000
DTSTAMP:20260421T005820
CREATED:20180501T192816Z
LAST-MODIFIED:20180501T192816Z
UID:30258-1525588200-1525645800@massserves.org
SUMMARY:Flying Pig Marathon
DESCRIPTION:Volunteers will act as course monitors by cheering on participants of the race. We ask that you report to Bramble Park no later than 6:30 am. \n
URL:https://massserves.org/event/flying-pig-marathon/
LOCATION:Cincinnati\, United States
CATEGORIES:Health
ATTACH;FMTTYPE=image/jpeg:https://massserves.org/wp-content/uploads/2018/05/FP-cover.jpg
END:VEVENT
END:VCALENDAR