BEGIN:VCALENDAR
VERSION:2.0
PRODID:-//Mass Serves - ECPv4.6.22.1//NONSGML v1.0//EN
CALSCALE:GREGORIAN
METHOD:PUBLISH
X-WR-CALNAME:Mass Serves
X-ORIGINAL-URL:https://massserves.org
X-WR-CALDESC:Events for Mass Serves
BEGIN:VEVENT
DTSTART;TZID=America/New_York:20180506T063000
DTEND;TZID=America/New_York:20180506T140000
DTSTAMP:20260421T023527
CREATED:20170612T000903Z
LAST-MODIFIED:20170612T000903Z
UID:30185-1525588200-1525615200@massserves.org
SUMMARY:20th Annual Flying Pig Marathon
DESCRIPTION:More than 6\,500 volunteers (Grunts) are needed to make the Cincinnati Flying Pig Marathon special and to help make the Pig “fly”. Many of our volunteers are associated with charity groups while others are individuals. Volunteers play a significant role in the success of our event and it would not be possible without them. All volunteers must be at least 14 years of age. \n
URL:https://massserves.org/event/flying-pig-volunteer-2018/
LOCATION:Cincinnati\, United States
CATEGORIES:Health
ATTACH;FMTTYPE=image/png:https://massserves.org/wp-content/uploads/2017/04/UpcomingEvents_FlyingPigVolunteer-1.png
END:VEVENT
END:VCALENDAR