BEGIN:VCALENDAR
VERSION:2.0
PRODID:-//Mass Serves - ECPv4.6.22.1//NONSGML v1.0//EN
CALSCALE:GREGORIAN
METHOD:PUBLISH
X-WR-CALNAME:Mass Serves
X-ORIGINAL-URL:https://massserves.org
X-WR-CALDESC:Events for Mass Serves
BEGIN:VEVENT
DTSTART;TZID=America/New_York:20180111T100000
DTEND;TZID=America/New_York:20180114T170000
DTSTAMP:20260423T004303
CREATED:20180102T212246Z
LAST-MODIFIED:20180102T212246Z
UID:30238-1515664800-1515949200@massserves.org
SUMMARY:Friends of the Public Library Winter Sale
DESCRIPTION:The Friends of the Public Library of Cincinnati and Hamilton County is a non-profit organization dedicated to helping the Library make information and knowledge accessible to the communities it serves. The Friends purchases special library materials and equipment and sponsors numerous programs throughout the year. Funds are generated by memberships\, book and shop sales\, and gifts and grants. This event runs from the 11th – 14th. \n
URL:https://massserves.org/event/friends-public-library-winter-sale/
LOCATION:Cincinnati\, United States
CATEGORIES:Education
ATTACH;FMTTYPE=image/jpeg:https://massserves.org/wp-content/uploads/2018/01/CincyCares_Events-04.jpg
END:VEVENT
END:VCALENDAR