BEGIN:VCALENDAR
VERSION:2.0
PRODID:-//Mass Serves - ECPv4.6.22.1//NONSGML v1.0//EN
CALSCALE:GREGORIAN
METHOD:PUBLISH
X-WR-CALNAME:Mass Serves
X-ORIGINAL-URL:https://massserves.org
X-WR-CALDESC:Events for Mass Serves
BEGIN:VEVENT
DTSTART;TZID=America/New_York:20180512T080000
DTEND;TZID=America/New_York:20180512T120000
DTSTAMP:20260420T181903
CREATED:20180329T215427Z
LAST-MODIFIED:20180329T215427Z
UID:30252-1526112000-1526126400@massserves.org
SUMMARY:Girls on the Run 5K - Cincinnati
DESCRIPTION:Help us make the 5K celebration a memorable day for over 1\,600 local pre-teen girls!  In addition to the athletic accomplishment\, we want every girl (regardless of her ability) to understand the power of setting a goal and accomplishing it. We want this day to be something special that both she and her family will remember for a long time. Thank you for helping us to make this a reality! \n
URL:https://massserves.org/event/girls-on-the-run-cincinnati/
LOCATION:Cincinnati\, United States
CATEGORIES:Children,Education,Life Skills
ATTACH;FMTTYPE=image/png:https://massserves.org/wp-content/uploads/2018/03/gotr2-04.png
END:VEVENT
END:VCALENDAR