BEGIN:VCALENDAR
VERSION:2.0
PRODID:-//Mass Serves - ECPv4.6.22.1//NONSGML v1.0//EN
CALSCALE:GREGORIAN
METHOD:PUBLISH
X-WR-CALNAME:Mass Serves
X-ORIGINAL-URL:https://massserves.org
X-WR-CALDESC:Events for Mass Serves
BEGIN:VEVENT
DTSTART;TZID=America/New_York:20171118T080000
DTEND;TZID=America/New_York:20171118T120000
DTSTAMP:20260424T113223
CREATED:20171024T184947Z
LAST-MODIFIED:20171024T184947Z
UID:30202-1510992000-1511006400@massserves.org
SUMMARY:Girls on the Run 5K
DESCRIPTION:Girls on the Run is our program for girls in 3rd-5th grade that encourages girls to recognize their individual strengths and celebrate connections with others. Each season\, girls gain a better understanding of who they are and what’s important to them\, the value of teamwork and healthy relationships and how they can have a positive impact on the world. Girls also make a meaningful contribution to their community through a team-organized Community Impact Project. Physical activity is woven into the program to inspire an appreciation for fitness and healthy habits and teach life skills including treating others with care\, practicing gratitude and managing emotions. This celebratory\, non-competitive event provides girls with a sense of accomplishment and instills the value of goal setting at a young age. \n
URL:https://massserves.org/event/girls-on-the-run/
LOCATION:Sawyer Point\, 705 E. Pete Rose Way\, Cincinnati\, OH\, 45202\, United States
GEO:39.10126;-84.4999659
X-APPLE-STRUCTURED-LOCATION;VALUE=URI;X-ADDRESS=Sawyer Point 705 E. Pete Rose Way Cincinnati OH 45202 United States;X-APPLE-RADIUS=500;X-TITLE=705 E. Pete Rose Way:geo:-84.4999659,39.10126
CATEGORIES:Health,Life Skills,Social Justice & Equality
ATTACH;FMTTYPE=image/jpeg:https://massserves.org/wp-content/uploads/2017/10/GirlsOnTheRun-01-e1509026659333.jpg
END:VEVENT
END:VCALENDAR