BEGIN:VCALENDAR
VERSION:2.0
PRODID:-//Mass Serves - ECPv4.6.22.1//NONSGML v1.0//EN
CALSCALE:GREGORIAN
METHOD:PUBLISH
X-WR-CALNAME:Mass Serves
X-ORIGINAL-URL:https://massserves.org
X-WR-CALDESC:Events for Mass Serves
BEGIN:VEVENT
DTSTART;TZID=America/New_York:20180421T090000
DTEND;TZID=America/New_York:20180421T120000
DTSTAMP:20260421T194652
CREATED:20180409T231516Z
LAST-MODIFIED:20180409T231516Z
UID:30255-1524301200-1524312000@massserves.org
SUMMARY:Global Youth Service Day
DESCRIPTION:CYC’s AmeriCorps Ohio College Guide team invites you to volunteer with us for Global Youth Service Day on Saturday\, April 21. We will be weeding\, raking\, and mulching at Martin Luther King Park (3740 Reading Rd. Cincinnati\, OH 45229) Lunch will be provided. \n(Volunteers 18 & under are required to sign a waiver with a parent or guardian signature) \n
URL:https://massserves.org/event/global-youth-services-day/
LOCATION:Cincinnati\, United States
CATEGORIES:Environment
ATTACH;FMTTYPE=image/png:https://massserves.org/wp-content/uploads/2018/04/gysd-04.png
END:VEVENT
END:VCALENDAR