BEGIN:VCALENDAR
VERSION:2.0
PRODID:-//Mass Serves - ECPv4.6.22.1//NONSGML v1.0//EN
CALSCALE:GREGORIAN
METHOD:PUBLISH
X-WR-CALNAME:Mass Serves
X-ORIGINAL-URL:https://massserves.org
X-WR-CALDESC:Events for Mass Serves
BEGIN:VEVENT
DTSTART;TZID=America/New_York:20180512T090000
DTEND;TZID=America/New_York:20180512T130000
DTSTAMP:20260420T161858
CREATED:20170611T214532Z
LAST-MODIFIED:20170611T214532Z
UID:30184-1526115600-1526130000@massserves.org
SUMMARY:GO Local
DESCRIPTION:For the last ten years\, an army of volunteers has impacted the Cincinnati region through various service projects in a one-day\, citywide blitz of compassion called GO Cincinnati. People with muscles\, people who can organize\, people who love to get dirty\, and people who just love their city need to be a part of GO Local. \nIn four hours on a Saturday in May\, we tackle over 400 projects at schools\, social agencies\, parks\, neighborhoods\, and churches all over town. The exact date is TBD\, but we will update you as soon as possible! \nWe demonstrate God’s love to hundreds of schools\, churches\, neighborhoods\, social agencies and non-profits to put our faith in action and to say thank you for the work that they do in our communities. \n
URL:https://massserves.org/event/go-cincinnati-2/
LOCATION:Cincinnati\, United States
CATEGORIES:Animals,Arts & Culture,Children,Disaster Relief,Education,Environment,Health,Hunger,Life Skills,Poverty,Senior Services,Social Justice & Equality,Veterans & Military Families
ATTACH;FMTTYPE=image/png:https://massserves.org/wp-content/uploads/2017/04/UpcomingEvents_GoLocal-1.png
END:VEVENT
END:VCALENDAR