BEGIN:VCALENDAR
VERSION:2.0
PRODID:-//Mass Serves - ECPv4.6.22.1//NONSGML v1.0//EN
CALSCALE:GREGORIAN
METHOD:PUBLISH
X-WR-CALNAME:Mass Serves
X-ORIGINAL-URL:https://massserves.org
X-WR-CALDESC:Events for Mass Serves
BEGIN:VEVENT
DTSTART;TZID=America/New_York:20171129T180000
DTEND;TZID=America/New_York:20171129T193000
DTSTAMP:20260424T015323
CREATED:20171129T002837Z
LAST-MODIFIED:20171129T002837Z
UID:30217-1511978400-1511983800@massserves.org
SUMMARY:The Great American Cleanup!
DESCRIPTION:Join Price Hill Will and the Salvation Army Westside Corps in a regular cleanup on Friday evenings along the Warsaw Corridor. \n
URL:https://massserves.org/event/great-american-cleanup/
LOCATION:Cincinnati\, United States
CATEGORIES:Environment
ATTACH;FMTTYPE=image/jpeg:https://massserves.org/wp-content/uploads/2017/11/The-Great-American-Cleanup-01-e1511966126695.jpg
END:VEVENT
END:VCALENDAR