BEGIN:VCALENDAR
VERSION:2.0
PRODID:-//Mass Serves - ECPv4.6.22.1//NONSGML v1.0//EN
CALSCALE:GREGORIAN
METHOD:PUBLISH
X-WR-CALNAME:Mass Serves
X-ORIGINAL-URL:https://massserves.org
X-WR-CALDESC:Events for Mass Serves
BEGIN:VEVENT
DTSTART;TZID=America/New_York:20181210T100000
DTEND;TZID=America/New_York:20181210T130000
DTSTAMP:20260420T033701
CREATED:20181129T195134Z
LAST-MODIFIED:20181129T200204Z
UID:34271-1544436000-1544446800@massserves.org
SUMMARY:Happy Holidays Gift Drive (1)
DESCRIPTION:Lighthouse Happy Holidays 2018! Volunteers will assist in unloading gifts from cars\, transport gifts up elevators and stairs to Santa’s workshop. Count\, sort & organize gifts for distribution. Help staff “shop” for their clients. \nVolunteers will spend a lot of time on their feet and should wear comfortable shoes. Volunteers should be comfortable lifting 25 lbs. Volunteers should wear layers. Santa’s workshop can get pretty toasty! Volunteers will also receive a Happy Holidays t-shirt. \n
URL:https://massserves.org/event/happy-holidays-gift-drive/
LOCATION:Lighthouse Youth & Family Services\, 401 E. McMillan St.\, Cincinnati\, OH\, 45206\, United States
GEO:39.1262881;-84.5006421
X-APPLE-STRUCTURED-LOCATION;VALUE=URI;X-ADDRESS=Lighthouse Youth & Family Services 401 E. McMillan St. Cincinnati OH 45206 United States;X-APPLE-RADIUS=500;X-TITLE=401 E. McMillan St.:geo:-84.5006421,39.1262881
CATEGORIES:Children,Poverty
ATTACH;FMTTYPE=image/jpeg:https://massserves.org/wp-content/uploads/2018/11/HH-cover-3x2.jpg
ORGANIZER;CN="Lighthouse%20Youth%20%26%20Family%20Services":MAILTO:tbarnard@lys.org
END:VEVENT
END:VCALENDAR