BEGIN:VCALENDAR
VERSION:2.0
PRODID:-//Mass Serves - ECPv4.6.22.1//NONSGML v1.0//EN
CALSCALE:GREGORIAN
METHOD:PUBLISH
X-WR-CALNAME:Mass Serves
X-ORIGINAL-URL:https://massserves.org
X-WR-CALDESC:Events for Mass Serves
BEGIN:VEVENT
DTSTART;TZID=America/New_York:20180519T083000
DTEND;TZID=America/New_York:20180519T120000
DTSTAMP:20260420T073112
CREATED:20180509T223439Z
LAST-MODIFIED:20180509T223439Z
UID:17037-1526718600-1526731200@massserves.org
SUMMARY:Heart Chase & Urban Race
DESCRIPTION:HeartChase/UrbanRace is a good-cause community adventure game\, raising funds for the life-saving work of the American Heart Association and American Stroke Association.  It’s a fun and frenzied pursuit of hidden rewards and healthy lives. Teams of 2-5 people will compete against other teams in a chase through the community. \n
URL:https://massserves.org/event/heart-chase-urban-race/
LOCATION:Discover Organizations
CATEGORIES:Hunger
ATTACH;FMTTYPE=image/jpeg:https://massserves.org/wp-content/uploads/2018/05/Newblue-Causes-lifeskills.jpg
END:VEVENT
END:VCALENDAR