BEGIN:VCALENDAR
VERSION:2.0
PRODID:-//Mass Serves - ECPv4.6.22.1//NONSGML v1.0//EN
CALSCALE:GREGORIAN
METHOD:PUBLISH
X-WR-CALNAME:Mass Serves
X-ORIGINAL-URL:https://massserves.org
X-WR-CALDESC:Events for Mass Serves
BEGIN:VEVENT
DTSTART;TZID=America/New_York:20180519T093000
DTEND;TZID=America/New_York:20180519T120000
DTSTAMP:20260420T021231
CREATED:20171220T005839Z
LAST-MODIFIED:20171220T005839Z
UID:30235-1526722200-1526731200@massserves.org
SUMMARY:Hope Factory Pack-A-Thon
DESCRIPTION:Volunteers assemble four high nutritious dry ingredients into custom 13 oz bags.The tasks include scooping\, measuring\, and bagging the food ingredients into bags. Then\, the bags are weighed\, counted\, and packed into sturdy cardboard boxes for shipment/distribution to hungry children around the world. Your volunteer experience will help provide 150\,000 high protein meals for orphans and vulnerable children. “The children are waiting” \n
URL:https://massserves.org/event/hope-factory-pack-thon-7/
LOCATION:A Child’s Hope International\, 2430 East Kemper Rd.\, Cincinnati\, OH\, 45241
GEO:39.286039;-84.434007
X-APPLE-STRUCTURED-LOCATION;VALUE=URI;X-ADDRESS=A Child’s Hope International 2430 East Kemper Rd. Cincinnati OH 45241;X-APPLE-RADIUS=500;X-TITLE=2430 East Kemper Rd.:geo:-84.434007,39.286039
CATEGORIES:Children,Education,Hunger,Poverty
ATTACH;FMTTYPE=image/png:https://massserves.org/wp-content/uploads/2017/12/Hope-Factory-Pack-A-Thon__UPS-e1514386535981.png
END:VEVENT
END:VCALENDAR