BEGIN:VCALENDAR
VERSION:2.0
PRODID:-//Mass Serves - ECPv4.6.22.1//NONSGML v1.0//EN
CALSCALE:GREGORIAN
METHOD:PUBLISH
X-WR-CALNAME:Mass Serves
X-ORIGINAL-URL:https://massserves.org
X-WR-CALDESC:Events for Mass Serves
BEGIN:VEVENT
DTSTART;TZID=America/New_York:20180106T090000
DTEND;TZID=America/New_York:20180106T120000
DTSTAMP:20260423T055202
CREATED:20171218T195245Z
LAST-MODIFIED:20171218T195245Z
UID:30225-1515229200-1515240000@massserves.org
SUMMARY:Hope Factory Pack-A-Thon
DESCRIPTION:Help assemble four highly nutritious ingredients into custom 13 oz bags. Tasks include sealing\, weighing\, counting\, and packing into boxes for shipment/distribution to hungry children around the world. \n
URL:https://massserves.org/event/hope-factory-pack-thon/
LOCATION:A Child’s Hope International\, 2430 East Kemper Rd.\, Cincinnati\, OH\, 45241
GEO:39.286039;-84.434007
X-APPLE-STRUCTURED-LOCATION;VALUE=URI;X-ADDRESS=A Child’s Hope International 2430 East Kemper Rd. Cincinnati OH 45241;X-APPLE-RADIUS=500;X-TITLE=2430 East Kemper Rd.:geo:-84.434007,39.286039
CATEGORIES:Children,Hunger,Poverty
ATTACH;FMTTYPE=image/png:https://massserves.org/wp-content/uploads/2017/12/Hope-Factory-Pack-A-Thon__HF-e1514390922921.png
END:VEVENT
END:VCALENDAR