BEGIN:VCALENDAR
VERSION:2.0
PRODID:-//Mass Serves - ECPv4.6.22.1//NONSGML v1.0//EN
CALSCALE:GREGORIAN
METHOD:PUBLISH
X-WR-CALNAME:Mass Serves
X-ORIGINAL-URL:https://massserves.org
X-WR-CALDESC:Events for Mass Serves
BEGIN:VEVENT
DTSTART;TZID=America/New_York:20180528T090000
DTEND;TZID=America/New_York:20180528T130000
DTSTAMP:20260419T224909
CREATED:20180508T235734Z
LAST-MODIFIED:20180508T235734Z
UID:17014-1527498000-1527512400@massserves.org
SUMMARY:Hunger Walk & 5K
DESCRIPTION:Since its inception in 2004\, the Hunger Walk and 5K Run has raised more than $1\,800\,000\, the equivalent of 5\,400\,000 meals\, for Freestore Foodbank community partners serving 20 counties in Greater Cincinnati\, Northern Kentucky and Southeast Indiana. \n
URL:https://massserves.org/event/hunger-walk-5k/
LOCATION:Smale Riverfront Park\, 25 E. Freedom Way\, Cincinnati\, OH\, 45202
GEO:39.0968627;-84.5115828
X-APPLE-STRUCTURED-LOCATION;VALUE=URI;X-ADDRESS=Smale Riverfront Park 25 E. Freedom Way Cincinnati OH 45202;X-APPLE-RADIUS=500;X-TITLE=25 E. Freedom Way:geo:-84.5115828,39.0968627
CATEGORIES:Hunger
ATTACH;FMTTYPE=:
END:VEVENT
END:VCALENDAR