BEGIN:VCALENDAR
VERSION:2.0
PRODID:-//Mass Serves - ECPv4.6.22.1//NONSGML v1.0//EN
CALSCALE:GREGORIAN
METHOD:PUBLISH
X-WR-CALNAME:Mass Serves
X-ORIGINAL-URL:https://massserves.org
X-WR-CALDESC:Events for Mass Serves
BEGIN:VEVENT
DTSTART;TZID=America/New_York:20190209T073000
DTEND;TZID=America/New_York:20190209T160000
DTSTAMP:20260419T221115
CREATED:20181214T184236Z
LAST-MODIFIED:20181217T150321Z
UID:34677-1549697400-1549728000@massserves.org
SUMMARY:I AM ME Youth Symposium
DESCRIPTION:I AM ME is a youth symposium aimed at empowering youth by building their confidence and resilience to embracing who they are through meaningful workshops and by connecting youth and their families with community resources. I AM ME was started on the premise of two organizations\, Behind Every Great Kid and Guiding Light Mentoring\, who work with youth in the community who are underserved\, have low self-esteem and are seeking approval and acceptance from society. \nThese nonprofit organizations are working together for one goal; IMPACTING THE LIVES OF OUR YOUTH AND COMMUNITIES. The I AM ME Youth Symposium will offer youth workshops\, a panel discussion\, resource fair\, keynote speaker\, food\, music and giveaways. Our goal is to take a holistic approach when working with youth and their families to improve outcomes. \n
URL:https://massserves.org/event/i-am-me-youth-symposium/
LOCATION:President’s Hall\, 2700 Glenway Ave.\, Cincinnati\, OH\, 45204\, United States
GEO:39.1132104;-84.554532
X-APPLE-STRUCTURED-LOCATION;VALUE=URI;X-ADDRESS=President’s Hall 2700 Glenway Ave. Cincinnati OH 45204 United States;X-APPLE-RADIUS=500;X-TITLE=2700 Glenway Ave.:geo:-84.554532,39.1132104
CATEGORIES:Children,Poverty,Social Justice & Equality
ATTACH;FMTTYPE=image/png:https://massserves.org/wp-content/uploads/2018/12/unnamed.png
ORGANIZER;CN="Guiding%20Light%20Mentoring":MAILTO:Latisha.owens@guidinglightmentoring.org
END:VEVENT
END:VCALENDAR