BEGIN:VCALENDAR
VERSION:2.0
PRODID:-//Mass Serves - ECPv4.6.22.1//NONSGML v1.0//EN
CALSCALE:GREGORIAN
METHOD:PUBLISH
X-WR-CALNAME:Mass Serves
X-ORIGINAL-URL:https://massserves.org
X-WR-CALDESC:Events for Mass Serves
BEGIN:VEVENT
DTSTART;TZID=America/New_York:20171209T100000
DTEND;TZID=America/New_York:20171209T130000
DTSTAMP:20260423T172755
CREATED:20170930T002740Z
LAST-MODIFIED:20170930T002740Z
UID:30197-1512813600-1512824400@massserves.org
SUMMARY:Jingle Bell Run
DESCRIPTION:The Arthritis Foundation’s original Jingle Bell Run is a fun way to be festive while raising funds and awareness to cure America’s #1 cause of disability. Help make this event possible by volunteering\, and help bring an end to Arthritis in Cincinnati.Volunteers are essential to bringing this fun event to life – and we can’t wait to jingle with you! “’Tis the season to live it up and be jolly for a reason!” \n  \n
URL:https://massserves.org/event/jingle-bell-run/
LOCATION:Cincinnati\, United States
CATEGORIES:Health
ATTACH;FMTTYPE=image/jpeg:https://massserves.org/wp-content/uploads/2017/09/JingleBellRun_final.jpg
END:VEVENT
END:VCALENDAR