BEGIN:VCALENDAR
VERSION:2.0
PRODID:-//Mass Serves - ECPv4.6.22.1//NONSGML v1.0//EN
CALSCALE:GREGORIAN
METHOD:PUBLISH
X-WR-CALNAME:Mass Serves
X-ORIGINAL-URL:https://massserves.org
X-WR-CALDESC:Events for Mass Serves
BEGIN:VEVENT
DTSTART;TZID=America/New_York:20191010T173000
DTEND;TZID=America/New_York:20191010T203000
DTSTAMP:20260421T121537
CREATED:20190805T184330Z
LAST-MODIFIED:20190805T184330Z
UID:41005-1570728600-1570739400@massserves.org
SUMMARY:Light the Night
DESCRIPTION:The Leukemia & Lymphoma Society’s Light The Night Walk brings light to the darkness of cancer by funding lifesaving research and support for people battling cancer. Family\, friends and co-workers gather together to celebrate\, honor or remember those touched by cancer. Registration is free\, but walkers are encouraged to raise funds to support the mission. These efforts culminate in inspirational\, memorable evening experiences filled with music\, fireworks and empowering ceremonies honoring survivors and remembering those we have lost. Please join us and nearly 1M others in the 140 walks across North America. \n
URL:https://massserves.org/event/light-the-night/
LOCATION:Yeatman’s Cove\, 705 E. Pete Rose Way\, Cincinnati\, OH\, 45202\, United States
GEO:39.10126;-84.4999659
X-APPLE-STRUCTURED-LOCATION;VALUE=URI;X-ADDRESS=Yeatman’s Cove 705 E. Pete Rose Way Cincinnati OH 45202 United States;X-APPLE-RADIUS=500;X-TITLE=705 E. Pete Rose Way:geo:-84.4999659,39.10126
CATEGORIES:Health
ATTACH;FMTTYPE=image/jpeg:https://massserves.org/wp-content/uploads/2019/08/LTN-cover-3x2.jpg
ORGANIZER;CN="Leukemia%20%26%20Lymphoma%20Society%20-%20Tri-State%20Chapter":MAILTO:theleukemialymphomasociety_ohs@lls.org
END:VEVENT
END:VCALENDAR