BEGIN:VCALENDAR
VERSION:2.0
PRODID:-//Mass Serves - ECPv4.6.22.1//NONSGML v1.0//EN
CALSCALE:GREGORIAN
METHOD:PUBLISH
X-WR-CALNAME:Mass Serves
X-ORIGINAL-URL:https://massserves.org
X-WR-CALDESC:Events for Mass Serves
BEGIN:VEVENT
DTSTART;TZID=America/New_York:20191026T080000
DTEND;TZID=America/New_York:20191026T150000
DTSTAMP:20260421T191547
CREATED:20190318T194707Z
LAST-MODIFIED:20190318T194707Z
UID:38384-1572076800-1572102000@massserves.org
SUMMARY:Making Stride Against Breast Cancer
DESCRIPTION:The American Cancer Society Making Strides Against Breast Cancer walks raise awareness and funds to save lives from breast cancer. Each event is a noncompetitive 3 to 5 mile walk that brings people together to make a difference for everyone who has been touched by breast cancer. The events raise money to fund innovative research\, provide free information and support\, and to help people reduce their breast cancer risk or find it early when it’s most treatable. \n
URL:https://massserves.org/event/making-stride-against-breast-cancer/
LOCATION:Yeatman’s Cove\, 705 E. Pete Rose Way\, Cincinnati\, OH\, 45202\, United States
GEO:39.10126;-84.4999659
X-APPLE-STRUCTURED-LOCATION;VALUE=URI;X-ADDRESS=Yeatman’s Cove 705 E. Pete Rose Way Cincinnati OH 45202 United States;X-APPLE-RADIUS=500;X-TITLE=705 E. Pete Rose Way:geo:-84.4999659,39.10126
CATEGORIES:Health
ATTACH;FMTTYPE=image/jpeg:https://massserves.org/wp-content/uploads/2019/03/unnamed-6.jpg
ORGANIZER;CN="American%20Cancer%20Society":MAILTO:CincinnatiOHStrides@cancer.org
END:VEVENT
END:VCALENDAR