BEGIN:VCALENDAR
VERSION:2.0
PRODID:-//Mass Serves - ECPv4.6.22.1//NONSGML v1.0//EN
CALSCALE:GREGORIAN
METHOD:PUBLISH
X-WR-CALNAME:Mass Serves
X-ORIGINAL-URL:https://massserves.org
X-WR-CALDESC:Events for Mass Serves
BEGIN:VEVENT
DTSTART;TZID=America/New_York:20190209T100000
DTEND;TZID=America/New_York:20190209T180000
DTSTAMP:20260419T171024
CREATED:20190121T194957Z
LAST-MODIFIED:20190121T194957Z
UID:35168-1549706400-1549735200@massserves.org
SUMMARY:My Furry Valentine
DESCRIPTION:Over 800 adoptable animals will be available for adoption. My Furry Valentine is Greater Cincinnati’s Largest Pet Adoption Event\, hosted by phoDOGrapher on February 9th & 10th\, 2019. \n
URL:https://massserves.org/event/my-furry-valentine-2/
LOCATION:Sharonville Convention Center\, 11355 Chester Rd\, Cincinnati\, OH\, 45246\, United States
GEO:39.2792674;-84.44501
X-APPLE-STRUCTURED-LOCATION;VALUE=URI;X-ADDRESS=Sharonville Convention Center 11355 Chester Rd Cincinnati OH 45246 United States;X-APPLE-RADIUS=500;X-TITLE=11355 Chester Rd:geo:-84.44501,39.2792674
CATEGORIES:Animals
ATTACH;FMTTYPE=image/jpeg:https://massserves.org/wp-content/uploads/2019/01/MFV-cover-3x2.jpg
ORGANIZER;CN="My%20Furry%20Valentine":MAILTO:info@myfurryvalentine.com
END:VEVENT
END:VCALENDAR