BEGIN:VCALENDAR
VERSION:2.0
PRODID:-//Mass Serves - ECPv4.6.22.1//NONSGML v1.0//EN
CALSCALE:GREGORIAN
METHOD:PUBLISH
X-WR-CALNAME:Mass Serves
X-ORIGINAL-URL:https://massserves.org
X-WR-CALDESC:Events for Mass Serves
BEGIN:VEVENT
DTSTART;TZID=America/New_York:20181014T120000
DTEND;TZID=America/New_York:20181014T153000
DTSTAMP:20260421T080108
CREATED:20181001T195513Z
LAST-MODIFIED:20181002T180224Z
UID:33484-1539518400-1539531000@massserves.org
SUMMARY:Out of the Darkness Walk Cincinnati
DESCRIPTION:When you walk in the Out of the Darkness Walks\, you join the effort with hundreds of thousands of people to raise awareness and funds that allow the American Foundation for Suicide Prevention (AFSP) to invest in new research\, create educational programs\, advocate for public policy\, and support survivors of suicide loss. \n
URL:https://massserves.org/event/out-of-the-darkness-walk-cincinnati/
LOCATION:Sawyer Point\, 705 E. Pete Rose Way\, Cincinnati\, OH\, 45202\, United States
GEO:39.10126;-84.4999659
X-APPLE-STRUCTURED-LOCATION;VALUE=URI;X-ADDRESS=Sawyer Point 705 E. Pete Rose Way Cincinnati OH 45202 United States;X-APPLE-RADIUS=500;X-TITLE=705 E. Pete Rose Way:geo:-84.4999659,39.10126
CATEGORIES:Health
ATTACH;FMTTYPE=image/jpeg:https://massserves.org/wp-content/uploads/2018/10/WFS-compressed.jpg
ORGANIZER;CN="American%20Foundation%20to%20Suicide%20Prevention%20-%20Ohio%20Chapter":MAILTO:ohio@afsp.org
END:VEVENT
END:VCALENDAR