BEGIN:VCALENDAR
VERSION:2.0
PRODID:-//Mass Serves - ECPv4.6.22.1//NONSGML v1.0//EN
CALSCALE:GREGORIAN
METHOD:PUBLISH
X-WR-CALNAME:Mass Serves
X-ORIGINAL-URL:https://massserves.org
X-WR-CALDESC:Events for Mass Serves
BEGIN:VEVENT
DTSTART;TZID=America/New_York:20180609T080000
DTEND;TZID=America/New_York:20180609T160000
DTSTAMP:20260419T143327
CREATED:20180606T193612Z
LAST-MODIFIED:20180606T193612Z
UID:17502-1528531200-1528560000@massserves.org
SUMMARY:Paint the Town
DESCRIPTION:1\,200 Volunteers\, 40 Homes\, 1 Day! One of Give Back Cincinnati’s largest events\, Paint the Town will take place on Saturday\, June 9.  Approximately 1\,000 volunteers will converge in Colerain to get the job done! \n
URL:https://massserves.org/event/paint-the-town/
LOCATION:Cincinnati\, United States
CATEGORIES:Poverty
ATTACH;FMTTYPE=:
END:VEVENT
END:VCALENDAR