BEGIN:VCALENDAR
VERSION:2.0
PRODID:-//Mass Serves - ECPv4.6.22.1//NONSGML v1.0//EN
CALSCALE:GREGORIAN
METHOD:PUBLISH
X-WR-CALNAME:Mass Serves
X-ORIGINAL-URL:https://massserves.org
X-WR-CALDESC:Events for Mass Serves
BEGIN:VEVENT
DTSTART;TZID=America/New_York:20171123T080000
DTEND;TZID=America/New_York:20171123T120000
DTSTAMP:20260424T100049
CREATED:20171023T215025Z
LAST-MODIFIED:20171023T215025Z
UID:30200-1511424000-1511438400@massserves.org
SUMMARY:Turkey Day 10K
DESCRIPTION:If you are looking for low-cost\, low key Thanksgiving Day alternative\, this is it! We will start early so you can get the race in and get on with your day. The 10K race\, 5K race\, and 5K walk will begin and end at Lifetime Fitness. \n
URL:https://massserves.org/event/post_typelisting-itemp9058/
LOCATION:Cincinnati\, United States
CATEGORIES:Hunger
ATTACH;FMTTYPE=image/jpeg:https://massserves.org/wp-content/uploads/2017/10/Turkey-Day-10K-01-e1509026206725.jpg
END:VEVENT
END:VCALENDAR