BEGIN:VCALENDAR
VERSION:2.0
PRODID:-//Mass Serves - ECPv4.6.22.1//NONSGML v1.0//EN
CALSCALE:GREGORIAN
METHOD:PUBLISH
X-WR-CALNAME:Mass Serves
X-ORIGINAL-URL:https://massserves.org
X-WR-CALDESC:Events for Mass Serves
BEGIN:VEVENT
DTSTART;TZID=America/New_York:20190127T083000
DTEND;TZID=America/New_York:20190127T160000
DTSTAMP:20260420T070423
CREATED:20190117T174539Z
LAST-MODIFIED:20190117T174539Z
UID:35112-1548577800-1548604800@massserves.org
SUMMARY:Pre-Framing Event (3)
DESCRIPTION:During these pre-framing events\, we will build the wall panels at our training annex. Later\, we will transport the wall panels to the actual build sites. The wall panels are for the houses that will be built at 909 McPherson in East Price Hill\, Cincinnati\, Ohio & 1120 High in Covington\, Kentucky. \n
URL:https://massserves.org/event/pre-framing-event-3/
LOCATION:1701 Mills Ave\, 1701 Mills Ave\, Cincinnati\, OH\, 45212\, United States
GEO:39.1595631;-84.4687525
X-APPLE-STRUCTURED-LOCATION;VALUE=URI;X-ADDRESS=1701 Mills Ave 1701 Mills Ave Cincinnati OH 45212 United States;X-APPLE-RADIUS=500;X-TITLE=1701 Mills Ave:geo:-84.4687525,39.1595631
CATEGORIES:Poverty
ATTACH;FMTTYPE=image/jpeg:https://massserves.org/wp-content/uploads/2019/01/PFE-cover-3x2.jpg
ORGANIZER;CN="Habitat%20for%20Humanity%20of%20Greater%20Cincinnati":MAILTO:getinvolvedvolunteer@habitatcincinnati.org
END:VEVENT
END:VCALENDAR