BEGIN:VCALENDAR
VERSION:2.0
PRODID:-//Mass Serves - ECPv4.6.22.1//NONSGML v1.0//EN
CALSCALE:GREGORIAN
METHOD:PUBLISH
X-WR-CALNAME:Mass Serves
X-ORIGINAL-URL:https://massserves.org
X-WR-CALDESC:Events for Mass Serves
BEGIN:VEVENT
DTSTART;TZID=America/New_York:20170513T080000
DTEND;TZID=America/New_York:20170513T170000
DTSTAMP:20260425T201204
CREATED:20170404T202450Z
LAST-MODIFIED:20170404T202450Z
UID:30181-1494662400-1494694800@massserves.org
SUMMARY:Prep The Town
DESCRIPTION:
URL:https://massserves.org/event/prep-the-town/
ATTACH;FMTTYPE=image/png:https://massserves.org/wp-content/uploads/2017/04/UpcomingEvents_PrepTheTown-1.png
END:VEVENT
END:VCALENDAR