BEGIN:VCALENDAR
VERSION:2.0
PRODID:-//Mass Serves - ECPv4.6.22.1//NONSGML v1.0//EN
CALSCALE:GREGORIAN
METHOD:PUBLISH
X-WR-CALNAME:Mass Serves
X-ORIGINAL-URL:https://massserves.org
X-WR-CALDESC:Events for Mass Serves
BEGIN:VEVENT
DTSTART;TZID=America/New_York:20180414T090000
DTEND;TZID=America/New_York:20180414T150000
DTSTAMP:20260422T010803
CREATED:20180213T011924Z
LAST-MODIFIED:20180213T011924Z
UID:30243-1523696400-1523718000@massserves.org
SUMMARY:Rock the Block - Lockland
DESCRIPTION:Rock the Block calls all neighbors\, homeowners\, and renters\, to be outside together\, working in the yard\, and having fun! The event will focus on exterior home repair projects and street clean-up within the city limits of Lockland! \n
URL:https://massserves.org/event/rock-block-lockland/
LOCATION:Cincinnati\, United States
ATTACH;FMTTYPE=image/jpeg:https://massserves.org/wp-content/uploads/2018/02/RTB-1.jpg
END:VEVENT
END:VCALENDAR