BEGIN:VCALENDAR
VERSION:2.0
PRODID:-//Mass Serves - ECPv4.6.22.1//NONSGML v1.0//EN
CALSCALE:GREGORIAN
METHOD:PUBLISH
X-WR-CALNAME:Mass Serves
X-ORIGINAL-URL:https://massserves.org
X-WR-CALDESC:Events for Mass Serves
BEGIN:VEVENT
DTSTART;TZID=America/New_York:20170617T080000
DTEND;TZID=America/New_York:20170617T170000
DTSTAMP:20260425T151057
CREATED:20170404T192751Z
LAST-MODIFIED:20170404T192751Z
UID:30178-1497686400-1497718800@massserves.org
SUMMARY:Rock The Block - Walnut Hills
DESCRIPTION:
URL:https://massserves.org/event/rock-the-block-walnut-hills/
ATTACH;FMTTYPE=image/png:https://massserves.org/wp-content/uploads/2017/04/UpcomingEvents_RocktheBlock.png
END:VEVENT
END:VCALENDAR