BEGIN:VCALENDAR
VERSION:2.0
PRODID:-//Mass Serves - ECPv4.6.22.1//NONSGML v1.0//EN
CALSCALE:GREGORIAN
METHOD:PUBLISH
X-WR-CALNAME:Mass Serves
X-ORIGINAL-URL:https://massserves.org
X-WR-CALDESC:Events for Mass Serves
BEGIN:VEVENT
DTSTART;TZID=America/New_York:20180512T113000
DTEND;TZID=America/New_York:20180512T160000
DTSTAMP:20260420T144334
CREATED:20180510T213323Z
LAST-MODIFIED:20180510T213323Z
UID:30264-1526124600-1526140800@massserves.org
SUMMARY:Sound the Alarm
DESCRIPTION:Thank you for playing a major role in helping the Red Cross and our partners to install 100\,000 free smoke alarms nationwide in April and May in over 100 cities across the country.\n \n
URL:https://massserves.org/event/sound-the-alarm-2/
LOCATION:Cincinnati\, United States
CATEGORIES:Disaster Relief,Education,Health
ATTACH;FMTTYPE=:
END:VEVENT
END:VCALENDAR