BEGIN:VCALENDAR
VERSION:2.0
PRODID:-//Mass Serves - ECPv4.6.22.1//NONSGML v1.0//EN
CALSCALE:GREGORIAN
METHOD:PUBLISH
X-WR-CALNAME:Mass Serves
X-ORIGINAL-URL:https://massserves.org
X-WR-CALDESC:Events for Mass Serves
BEGIN:VEVENT
DTSTART;TZID=America/New_York:20171025T080000
DTEND;TZID=America/New_York:20171025T170000
DTSTAMP:20260424T234645
CREATED:20171025T221800Z
LAST-MODIFIED:20171025T221800Z
UID:30207-1508918400-1508950800@massserves.org
SUMMARY:Test New
DESCRIPTION:Testing \n
URL:https://massserves.org/event/test-new/
LOCATION:Cincinnati\, United States
END:VEVENT
END:VCALENDAR