BEGIN:VCALENDAR
VERSION:2.0
PRODID:-//Mass Serves - ECPv4.6.22.1//NONSGML v1.0//EN
CALSCALE:GREGORIAN
METHOD:PUBLISH
X-WR-CALNAME:Mass Serves
X-ORIGINAL-URL:https://massserves.org
X-WR-CALDESC:Events for Mass Serves
BEGIN:VEVENT
DTSTART;TZID=America/New_York:20180922T060000
DTEND;TZID=America/New_York:20180922T110000
DTSTAMP:20260420T072515
CREATED:20180829T184629Z
LAST-MODIFIED:20180919T180234Z
UID:33029-1537596000-1537614000@massserves.org
SUMMARY:The Gentlemen Stakes 5K for Prostate Cancer
DESCRIPTION:The stakes are high when it comes to your health – especially for men diagnosed with prostate cancer. That’s why The Urology Group is presenting its 11th run/walk event to raise awareness of prostate cancer. \n
URL:https://massserves.org/event/the-gentlemens-stakes-5k-for-prostate-cancer/
LOCATION:Belterra Park Gaming\, 6301 Kellogg Rd.\, Cincinnati\, OH\, 45230\, United States
GEO:39.0512217;-84.4106821
X-APPLE-STRUCTURED-LOCATION;VALUE=URI;X-ADDRESS=Belterra Park Gaming 6301 Kellogg Rd. Cincinnati OH 45230 United States;X-APPLE-RADIUS=500;X-TITLE=6301 Kellogg Rd.:geo:-84.4106821,39.0512217
CATEGORIES:Health
ATTACH;FMTTYPE=image/png:https://massserves.org/wp-content/uploads/2018/08/notitle-13.png
ORGANIZER;CN="The%20Urology%20Group":MAILTO:abbey@ammarketingagency.com
END:VEVENT
END:VCALENDAR