BEGIN:VCALENDAR
VERSION:2.0
PRODID:-//Mass Serves - ECPv4.6.22.1//NONSGML v1.0//EN
CALSCALE:GREGORIAN
METHOD:PUBLISH
X-WR-CALNAME:Mass Serves
X-ORIGINAL-URL:https://massserves.org
X-WR-CALDESC:Events for Mass Serves
BEGIN:VEVENT
DTSTART;TZID=America/New_York:20171201T080000
DTEND;TZID=America/New_York:20171201T170000
DTSTAMP:20260424T001912
CREATED:20171129T202218Z
LAST-MODIFIED:20171129T202218Z
UID:30218-1512115200-1512147600@massserves.org
SUMMARY:The Holiday Drive
DESCRIPTION:The Holiday Drive is an opportunity for struggling individuals and families from Northern Kentucky to receive food and gifts for their family during the holiday season. Individuals and families participating in agency programs will be offered the opportunity to sign-up (complete a Holiday Drive application) for assistance for the holiday season. Once families sign-up they will be randomly selected for either the Adoption program or the Wish Tree program. \n  \nPlease join us for 2-hour shifts. (We are seeking help from December 1st til the 19th) \n
URL:https://massserves.org/event/the-holiday-drive/
LOCATION:Cincinnati\, United States
CATEGORIES:Poverty
ATTACH;FMTTYPE=image/jpeg:https://massserves.org/wp-content/uploads/2017/11/The-Holiday-Drive-01-e1512051986925.jpg
END:VEVENT
END:VCALENDAR