BEGIN:VCALENDAR
VERSION:2.0
PRODID:-//Mass Serves - ECPv4.6.22.1//NONSGML v1.0//EN
CALSCALE:GREGORIAN
METHOD:PUBLISH
X-WR-CALNAME:Mass Serves
X-ORIGINAL-URL:https://massserves.org
X-WR-CALDESC:Events for Mass Serves
BEGIN:VEVENT
DTSTART;TZID=America/New_York:20181006T083000
DTEND;TZID=America/New_York:20181006T130000
DTSTAMP:20260420T192238
CREATED:20180917T182014Z
LAST-MODIFIED:20181001T200333Z
UID:33218-1538814600-1538830800@massserves.org
SUMMARY:Tri-State Walk to End Alzheimer's
DESCRIPTION:The first person to survive Alzheimer’s disease is out there. But we won’t reach that incredible milestone without YOU! Register today to be part of the 10th largest Walk to End Alzheimer’s in the United States\, and help make that beautiful day happen! There’s no charge to participate\, but registration is required. \n
URL:https://massserves.org/event/tri-state-walk-to-end-alzheimers/
LOCATION:Sawyer Point\, 705 E. Pete Rose Way\, Cincinnati\, OH\, 45202\, United States
GEO:39.10126;-84.4999659
X-APPLE-STRUCTURED-LOCATION;VALUE=URI;X-ADDRESS=Sawyer Point 705 E. Pete Rose Way Cincinnati OH 45202 United States;X-APPLE-RADIUS=500;X-TITLE=705 E. Pete Rose Way:geo:-84.4999659,39.10126
CATEGORIES:Health
ATTACH;FMTTYPE=image/png:https://massserves.org/wp-content/uploads/2018/09/notitle-10.png
ORGANIZER;CN="Alzheimer%27s%20Association%20Greater%20Cincinnati%20Chapter":MAILTO:anbarnett@alz.org
END:VEVENT
END:VCALENDAR