BEGIN:VCALENDAR
VERSION:2.0
PRODID:-//Mass Serves - ECPv4.6.22.1//NONSGML v1.0//EN
CALSCALE:GREGORIAN
METHOD:PUBLISH
X-WR-CALNAME:Mass Serves
X-ORIGINAL-URL:https://massserves.org
X-WR-CALDESC:Events for Mass Serves
BEGIN:VEVENT
DTSTART;TZID=America/New_York:20170621T163000
DTEND;TZID=America/New_York:20170621T190000
DTSTAMP:20260425T132510
CREATED:20170611T193806Z
LAST-MODIFIED:20170611T193806Z
UID:30182-1498062600-1498071600@massserves.org
SUMMARY:United Way Day of Action
DESCRIPTION:
URL:https://massserves.org/event/united-way-day-of-action/
LOCATION:Cincinnati\, United States
ATTACH;FMTTYPE=image/jpeg:https://massserves.org/wp-content/uploads/2017/06/uwgc_dayofaction2017-e1497197030696.jpg
END:VEVENT
END:VCALENDAR