BEGIN:VCALENDAR
VERSION:2.0
PRODID:-//Mass Serves - ECPv4.6.22.1//NONSGML v1.0//EN
CALSCALE:GREGORIAN
METHOD:PUBLISH
X-WR-CALNAME:Mass Serves
X-ORIGINAL-URL:https://massserves.org
X-WR-CALDESC:Events for Mass Serves
BEGIN:VEVENT
DTSTART;TZID=America/New_York:20180517T170000
DTEND;TZID=America/New_York:20180517T210000
DTSTAMP:20260420T131415
CREATED:20180426T192203Z
LAST-MODIFIED:20180426T192203Z
UID:30256-1526576400-1526590800@massserves.org
SUMMARY:Walk to Cure Arthritis - Dayton
DESCRIPTION:Whether you’re an arthritis warrior yourself or care about someone who is\, sign up and WALK to CURE Arthritis. \n
URL:https://massserves.org/event/walk-to-cure-arthritis-dayton/
LOCATION:Cincinnati\, United States
CATEGORIES:Children,Health
ATTACH;FMTTYPE=image/png:https://massserves.org/wp-content/uploads/2018/04/titlecurves-04.png
END:VEVENT
END:VCALENDAR