BEGIN:VCALENDAR
VERSION:2.0
PRODID:-//Mass Serves - ECPv4.6.22.1//NONSGML v1.0//EN
CALSCALE:GREGORIAN
METHOD:PUBLISH
X-WR-CALNAME:Mass Serves
X-ORIGINAL-URL:https://massserves.org
X-WR-CALDESC:Events for Mass Serves
BEGIN:VEVENT
DTSTART;TZID=America/New_York:20191005T080000
DTEND;TZID=America/New_York:20191005T130000
DTSTAMP:20260421T004922
CREATED:20190722T203149Z
LAST-MODIFIED:20190722T203149Z
UID:40874-1570262400-1570280400@massserves.org
SUMMARY:Walk to End Alzheimer's
DESCRIPTION:Held annually in more than 600 communities nationwide\, the Alzheimer’s Association Walk to End Alzheimer’s® is the world’s largest event to raise awareness and funds for Alzheimer’s care\, support and research. This inspiring event calls on participants of all ages and abilities to join the fight against the disease! \nWhen you participate in Walk\, your fundraising dollars fuel our mission\, and your participation in the event helps to change the level of Alzheimer’s awareness in your community. The Alzheimer’s Association provides free\, easy-to-use tools and staff support to help participants reach their fundraising goal. While there is no fee to register\, we encourage participants to fundraise in order to contribute to the cause and raise awareness. \n
URL:https://massserves.org/event/walk-to-end-alzheimers/
LOCATION:Sawyer Point\, 705 E. Pete Rose Way\, Cincinnati\, OH\, 45202\, United States
GEO:39.10126;-84.4999659
X-APPLE-STRUCTURED-LOCATION;VALUE=URI;X-ADDRESS=Sawyer Point 705 E. Pete Rose Way Cincinnati OH 45202 United States;X-APPLE-RADIUS=500;X-TITLE=705 E. Pete Rose Way:geo:-84.4999659,39.10126
CATEGORIES:Health
ATTACH;FMTTYPE=image/jpeg:https://massserves.org/wp-content/uploads/2019/07/ALZ-cover-3x2.jpg
ORGANIZER;CN="Alzheimer%27s%20Association%20Greater%20Cincinnati%20Chapter":MAILTO:anbarnett@alz.org
END:VEVENT
END:VCALENDAR