BEGIN:VCALENDAR
VERSION:2.0
PRODID:-//Mass Serves - ECPv4.6.22.1//NONSGML v1.0//EN
CALSCALE:GREGORIAN
METHOD:PUBLISH
X-WR-CALNAME:Mass Serves
X-ORIGINAL-URL:https://massserves.org
X-WR-CALDESC:Events for Mass Serves
BEGIN:VEVENT
DTSTART;TZID=America/New_York:20170514T080000
DTEND;TZID=America/New_York:20170514T170000
DTSTAMP:20260425T182120
CREATED:20170404T185641Z
LAST-MODIFIED:20170404T185641Z
UID:30177-1494748800-1494781200@massserves.org
SUMMARY:Women Build Week
DESCRIPTION:
URL:https://massserves.org/event/women-build-week/
ATTACH;FMTTYPE=image/png:https://massserves.org/wp-content/uploads/2017/04/UpcomingEvents_WomenBuildWeek.png
END:VEVENT
END:VCALENDAR