BEGIN:VCALENDAR
VERSION:2.0
PRODID:-//Mass Serves - ECPv4.6.22.1//NONSGML v1.0//EN
CALSCALE:GREGORIAN
METHOD:PUBLISH
X-WR-CALNAME:Mass Serves
X-ORIGINAL-URL:https://massserves.org
X-WR-CALDESC:Events for Mass Serves
BEGIN:VEVENT
DTSTART;TZID=America/New_York:20190209T083000
DTEND;TZID=America/New_York:20190209T130000
DTSTAMP:20260419T204445
CREATED:20190206T165403Z
LAST-MODIFIED:20190206T165403Z
UID:35386-1549701000-1549717200@massserves.org
SUMMARY:Young at Heart
DESCRIPTION:Everyone wants a Valentine!  Join us from 8:30 a.m. to 1 p.m. Saturday\, Feb. 9\, as we share the love with a local senior community at one of our favorite Interactive events: Young at Heart! \n
URL:https://massserves.org/event/young-at-heart/
LOCATION:St. Paul Village\, 5515 Madison Rd\, Cincinnati\, OH\, 45227\, United States
GEO:39.1597936;-84.3990859
X-APPLE-STRUCTURED-LOCATION;VALUE=URI;X-ADDRESS=St. Paul Village 5515 Madison Rd Cincinnati OH 45227 United States;X-APPLE-RADIUS=500;X-TITLE=5515 Madison Rd:geo:-84.3990859,39.1597936
CATEGORIES:Health,Senior Services
ATTACH;FMTTYPE=image/jpeg:https://massserves.org/wp-content/uploads/2019/02/unnamed.jpg
ORGANIZER;CN="Give%20Back%20Cincinnati":MAILTO:chelsea.brown@givebackcincinnati.org
END:VEVENT
END:VCALENDAR